{"text_format":"1","workbook":"xlsx","n_sheets":7,"sheets":["Általános","Fűtés","Villamosenergia","Közlekedés","Egyéb intézkedések","Költségvetés","Összesítő"],"not_rendered":{"charts":5,"images":5,"macros":0,"external_links":2,"defined_names":7,"comments":0,"pivot_tables":0},"unopened":[],"bounds":{"document_bytes":16777216,"sheet_cells":100000,"rows_first":2000,"rows_last":500,"rows_between":2000,"halvings":0,"cell_chars":16384,"cell_head_chars":4096},"cells_cut":0,"cells_raw":0,"read":"whole","date_system":"1900"}

{"sheet":"Általános","index":0,"n_rows":96,"n_cols":31,"rows_kept":96,"cut":false,"hidden":false,"merged":[[95,1,95,4],[26,1,26,3],[50,1,50,2],[69,3,69,6],[69,1,70,1],[88,4,88,6],[75,5,75,6],[86,1,86,3],[87,1,87,3],[88,1,88,3],[75,3,75,4],[85,4,85,6],[28,1,28,3],[27,4,27,6],[89,1,89,3],[89,4,89,6],[89,7,89,8],[23,1,23,3],[21,1,21,3],[22,1,22,3],[24,1,24,3],[27,1,27,3],[86,4,86,6],[87,4,87,6],[36,1,36,2],[23,4,23,6],[22,4,22,6],[21,4,21,6],[0,25,2,29],[86,7,86,8],[88,7,88,8],[85,7,85,8],[87,7,87,8],[0,0,2,16],[70,5,70,6],[71,3,71,4],[71,5,71,6],[70,3,70,4],[5,0,5,24],[0,19,2,24],[9,4,9,6],[10,4,10,6],[11,4,11,6],[12,4,12,6],[14,4,14,6],[9,1,9,3],[10,1,10,3],[12,1,12,3],[20,1,20,3],[19,1,19,3],[19,4,19,6],[20,4,20,6],[51,15,52,15],[51,16,52,16],[50,14,50,16],[28,4,28,6],[24,4,24,6],[26,4,26,6]]}
["                   "]
[]
[]
[]
[]
["Energiaterv"]
["Általános információ"]
[]
[null,"Jelmagyarázat"]
[null,null,null,null,"Önkormányzat által kitöltendő rész "]
[null,null,null,null,"Leírás"]
[null,null,null,null,"Eredmény"]
[null,null,null,null,"Előre kitöltött rész (általában fogyasztási és emissziós faktorok)"]
[]
[null,null,null,null,"Magyarázat"]
[]
[]
[]
[null,"Általános információk az település(rész)re/kerület(rész)re vonatkozóan"]
[null,"Önkormányzat neve"]
[null,"Kitöltő személy(ek)"]
[null,"Irányítószám"]
[null,"Levelezési cím"]
[null,"Megye"]
[null,"Önkormányzat lakosságszáma"]
[null,"Nem kötelezően kitöltendő"]
[null,"Település(rész)/kerület(rész) neve  (az ET vonatkozó részén) "]
[null,"Településrész/kerületrész lakossága (az ET vonatkozó részén) "]
[null,"Településrész/kerületrész nagysága (az ET vonatkozó részén) (km2)"]
[]
[]
[]
[]
[]
[]
[]
[null,"CO2 kibocsátási célok\n(t CO2 /év)",null,"bázisév ","terv kidolgozásának éve",2022,2025,2030,"CO2 kibocsátási cél\n (CO2 kibocsátás t/év)"]
[null,"Lakosságszám",null,null,null,null,null,null,{"$f":"SUM(H38)","v":0}]
[null,"Fűtésienergia szektor CO2  kibocsátása ",null,{"$f":"Fűtés!O81","v":0},{"$f":"Fűtés!O88","v":0},{"$f":"Fűtés!O95","v":0},{"$f":"Fűtés!O102","v":0},{"$f":"Fűtés!O109","v":0}]
[null,"Villamosenergia szektor CO2  kibocsátása",null,{"$f":"Villamosenergia!J85","v":0},{"$f":"Villamosenergia!J94","v":0},{"$f":"Villamosenergia!J103","v":0},{"$f":"Villamosenergia!J112","v":0},{"$f":"Villamosenergia!J121","v":0}]
[null,"Fűtésienergia+Villamosenergia szektor CO2  kibocsátása",null,{"$f":"SUM(D39:D40)","v":0},{"$f":"SUM(E39:E40)","v":0},{"$f":"SUM(F39:F40)","v":0},{"$f":"SUM(G39:G40)","v":0},{"$f":"SUM(H39:H40)","v":0}]
[null,"Közlekedés CO2 kibocsátás",null,{"$f":"Közlekedés!E40","v":0},{"$f":"Közlekedés!F40","v":0},{"$f":"Közlekedés!H40","v":0},{"$f":"Közlekedés!J40","v":0},{"$f":"Közlekedés!L40","v":0}]
[null,"CO2 kibocsátás összesen (t/év)",null,{"$f":"SUM(D41:D42)","v":0},{"$f":"SUM(E41:E42)","v":0},{"$f":"SUM(F41:F42)","v":0},{"$f":"SUM(G41:G42)","v":0},{"$f":"SUM(H41:H42)","v":0},{"$f":"SUM(D43-D43*0.4)","v":0}]
[null,"CO2 kibocsátás t/év/fő",null,{"$f":"IFERROR(SUM(D43/D38),0)","v":0},{"$f":"IFERROR(SUM(E43/E38),0)","v":0},{"$f":"IFERROR(SUM(F43/F38),0)","v":0},{"$f":"IFERROR(SUM(G43/G38),0)","v":0},{"$f":"IFERROR(SUM(H43/H38),0)","v":0},{"$f":"SUM(D44-D44*0.4)","v":0}]
[null,"CO2 kibocsátás csökkenés % t/év/fő, 2005 óta",null,null,{"$f":"IFERROR(SUM((D44-E44)/D44*100),0)","v":0},{"$f":"IFERROR(SUM((D44-F44)/D44*100),0)","v":0},{"$f":"IFERROR(SUM((D44-G44)/D44*100),0)","v":0},{"$f":"IFERROR(SUM((D44-H44)/D44*100),0)","v":0}," "]
[]
[]
[]
[]
[]
[null,"Energiafogyasztási célok\n(kWh/év)",null,"bázisév ","2019-terv kidolgozásának éve",2022,2025,2030," Energiamegtakarítás\nbázisév-2030 között\nkWh/év "," Energiamegtakarítás\n bázisév-2030 között %","MULTIPLY támogatási szerződésében foglalt energiamegtakarítási cél bázisév-2030 között                   kWh/év","MULTIPLY támogatási szerződésében foglalt energiamegtakarítási cél bázisév-2030 között %"]
[null,"Lakosságszám",null,{"$f":"SUM(D38)","v":0},{"$f":"SUM(E38)","v":0},{"$f":"SUM(F38)","v":0},{"$f":"SUM(G38)","v":0},{"$f":"SUM(H38)","v":0},{"$f":"SUM(H38)","v":0},null,null,null,null,null,null,"Csökkentés% (bázisév-2030)"]
[null,"Fűtésienergia szektor fogyasztása (kWh/év)",null,{"$f":"Fűtés!C69","v":0},{"$f":"Fűtés!D69","v":0},{"$f":"Fűtés!E69","v":0},{"$f":"Fűtés!F69","v":0},{"$f":"Fűtés!G69","v":0},{"$f":"D53-H53","v":0},{"$f":"IFERROR(SUM(I53/D53*100),0)","v":0},{"$f":"SUM(D53*0.29)","v":0},29]
[null,"Villamosenergia szektor energia fogyasztása (kWh/év)",null,{"$f":"Villamosenergia!C73","v":0},{"$f":"Villamosenergia!D73","v":0},{"$f":"Villamosenergia!E73","v":0},{"$f":"Villamosenergia!F73","v":0},{"$f":"Villamosenergia!G73","v":0},{"$f":"D54-H54","v":0},{"$f":"IFERROR(SUM(I54/D54*100),0)","v":0},{"$f":"SUM(D54*0.27)","v":0},27,null,null,"Fűtés",29]
[null,"Fűtésienergia szektor+Villamosenergia szektor energia fogyasztása (kWh/év)",null,{"$f":"SUM(D53:D54)","v":0},{"$f":"SUM(E53:E54)","v":0},{"$f":"SUM(F53:F54)","v":0},{"$f":"SUM(G53:G54)","v":0},{"$f":"SUM(H53:H54)","v":0},null,null,null,null,null,null,"Villamosenergia",27]
[null,"Közlekedés energia fogyasztás (kWh/év)",null,{"$f":"Közlekedés!E29","v":0},{"$f":"Közlekedés!F29","v":0},{"$f":"Közlekedés!H29","v":0},{"$f":"Közlekedés!J29","v":0},{"$f":"Közlekedés!L29","v":0},{"$f":"D56-H56","v":0},{"$f":"IFERROR(SUM(I56/D56*100),0)","v":0},{"$f":"SUM(D56*0.27)","v":0},10,null,null,"Közlekedés",10]
[null,"Energiafogyasztás összesen (kWh/év)",null,{"$f":"SUM(D55:D56)","v":0},{"$f":"SUM(E55:E56)","v":0},{"$f":"SUM(F55:F56)","v":0},{"$f":"SUM(G55:G56)","v":0},{"$f":"SUM(H55:H56)","v":0},{"$f":"D57-H57","v":0},null,null,null,null,null,"Átlagosan",{"$f":"AVERAGE(P54:P56)","v":22}]
[null,"Energiafogyasztás kWh/év/fő",null,{"$f":"IFERROR(SUM(D57/D52),0)","v":0},0,0,0,0,0]
[null,"Energiafogyasztás csökkenés % (kWh/év/fő), bázisév óta",null,null,{"$f":"IFERROR(SUM((D58-E58)/D58*100),0)","v":0},{"$f":"IFERROR(SUM((D58-F58)/D58*100),0)","v":0},{"$f":"IFERROR(SUM((D58-G58)/D58*100),0)","v":0},{"$f":"IFERROR(SUM((D58-H58)/D58*100),0)","v":0},{"$f":"I55+I56","v":0}]
[null,null,null,null,null,null,null,null,null,{"$f":"AVERAGE(J53:J56)","v":0},null,{"$f":"AVERAGE(L53:L56)","v":22}]
[]
[]
[]
[]
[]
[]
[]
[]
[]
[null,"Energia Csoport",null,"Terv előkészítése"]
[null,null,null,"Név",null,"Pozíció"]
[null,"Polgármester"]
[null,"Külső szakértő (Környezetvédelmi referens)"]
[null,"Külső szakértő (pl. várostervezés)"]
[null,"Kommunikációs szakértő"]
[null,"Egyéb tag"]
[]
[]
[]
[]
[]
[]
[]
[]
[]
[null," Helyi lakosság és érdekcsoportok bevonása",null,null,"Résztvevő  szereplők",null,null,"Részvételi szint"]
[null,"Helyi hatóságok",null,null,null,null,null,"[drop-down]"]
[null,"Helyi szintű érdekcsoportok ",null,null,null,null,null,"[drop-down]"]
[null,"Érdekcsoportok további szinteken (nemzeti,megyei stb.)",null,null,null,null,null,"[drop-down]"]
[null,"Helyi lakosok",null,null,null,null,null,"[drop-down]"]
[]
[]
[null,null,null,null,null,null,null,null,null,null,null,null,null,null,null,null,null,null,null,null,null,null,null,null,null,null,null,null,null,null,"Magas"]
[null,null,null,null,null,null,null,null,null,null,null,null,null,null,null,null,null,null,null,null,null,null,null,null,null,null,null,null,null,null,"Közepes"]
[null,null,null,null,null,null,null,null,null,null,null,null,null,null,null,null,null,null,null,null,null,null,null,null,null,null,null,null,null,null,"Alacsony"]
[null," A projekt az Európai Unió Horizon 2020 kutatási és innovációs programja által kerül finanszírozásra, a 785088 számú támogatási szerződés alatt."]

{"sheet":"Fűtés","index":1,"n_rows":113,"n_cols":131,"rows_kept":113,"cut":false,"hidden":false,"merged":[[113,7,116,7],[0,0,2,20],[0,21,2,38],[5,0,5,20],[5,21,5,38],[112,2,112,6],[114,2,114,6],[25,4,25,8]]}
["           "]
[]
[]
[]
[]
["Épületek, létesítmények/berendezések, ipar"]
[]
["1. Energiafogyasztás szektoronként"]
["Szektor 1"]
[]
[null,"Lakossági                                                                                           Fűtésienergia fogyasztás","Épületek száma, abszolút érték, bázisév","Épületek száma, abszolút értéke, terv kidolgozásának éve","Épületek száma, abszolút értéke, 2022","Épületek száma, abszolút értéke, 2025","Épületek száma, abszolút értéke, 2030","Fűtésienergia fogyasztás,  kWh/m2/év"," Átlagos terület m2","Fűtésienergia fogyasztás, település(rész)/kerület(rész), kWh/év, bázisév","Fűtésienergia fogyasztás, település(rész)/kerület(rész), kWh/év, terv kidolgozásának éve","Fűtésienergia fogyasztás, település(rész)/kerület(rész), kWh/év, 2022","Fűtésienergia fogyasztás, település(rész)/kerület(rész), kWh/év, 2025","Fűtésienergia fogyasztás, település(rész)/kerület(rész), kWh/év, 2030"]
[null,"Családi házak-1980 előtt épült",null,null,null,null,null,245,83,{"$f":"C12*H12*I12","v":0},{"$f":"D12*H12*I12","v":0},{"$f":"E12*H12*I12","v":0},{"$f":"F12*H12*I12","v":0},{"$f":"G12*H12*I12","v":0}]
[null,"Családi házak-1980 előtt épült nagyrészt energetikailag felújított",null,null,null,null,null,132,83,{"$f":"C13*H13*I13","v":0},{"$f":"D13*H13*I13","v":0},{"$f":"E13*H13*I13","v":0},0,{"$f":"G13*H13*I13","v":0}]
[null,"Családi házak 1981-1990",null,null,null,null,null,175,105,0,0,0,0,{"$f":"G14*H14*I14","v":0}]
[null,"Családi házak 1981-1990 nagyrészt energetikailag felújított",null,null,null,null,null,98,105,0,0,0,0,0]
[null,"Családi házak 1991-2000",null,null,null,null,null,131,111,0,0,0,0,0]
[null,"Családi házak 1991-2000 nagyrészt energetikailag felújított",null,null,null,null,null,75,111,0,0,0,0,0]
[null,"Családi házak 2001-2010",null,null,null,null,null,83,113,0,0,0,0,0]
[null,"Családi házak 2011-2020",null,null,null,null,null,48,113,0,{"$f":"D19*H19*I19","v":0},{"$f":"E19*H19*I19","v":0},0,0]
[null,"Családi házak 2021-2030",null,null,null,null,null,40,113,0,0,0,0,0]
[null,"Lakások társasházakban",null,null,null,null,null,114,57.15,0,0,0,0,0]
[null,"Lakások társasházakban nagyrészt energetikailag felújított",null,null,null,null,null,68,57.15,0,0,0,0,0]
[null,"Önkormányzati/szociális lakások ",null,null,null,null,null,null,null,0,0,0,0,0]
[null,"Önkormányzati/szociális lakások nagyrészt energetikailag felújított",null,null,null,null,null,null,null,0,0,0,0,0]
[null,"Lakások összesen",{"$f":"SUM(C12:C24)","v":0},{"$f":"SUM(D12:D24)","v":0},0,0,0]
[null,"Fűtési energiafogyasztás összesen",null,null,null,null,null,null,null,{"$f":"SUM(J12:J24)","v":0},{"$f":"SUM(K12:K24)","v":0},{"$f":"SUM(L12:L24)","v":0},0,0]
[null,null,null,null,null,null,null,null,null,null,null,null,null,{"$f":"1-N26/J26","v":{"$error":"#DIV/0!"}}]
[null,"Forrás: Alapterület: https://www.kormany.hu/download/d/85/40000/Nemzeti%20E%CC%81pu%CC%88letenergetikai%20Strate%CC%81gia%20150225.pdf"]
[null,"Fűtési energia fogyasztás :    https://www.dena.de/fileadmin/user_upload/8162_dena-Gebaeudereport.pdf"]
[]
[]
["Szektor 2"]
[]
[null,"Középületek, létesítmények/berendezések                                                                                 Fűtésienergia fogyasztás","Fűtésienergia fogyasztás, kWh/év, bázisév","Fűtésienergia fogyasztás, kWh/év, terv kidolgozásának éve","Csökkenés bázisév-2022 között, %","Fűtésienergia fogyasztás célérték, kWh/év, 2022","Csökkenés bázisév-2025 között, %","Fűtésienergia fogyasztás célérték, kWh/év, 2025","Csökkenés  bázisév-2030 között, %","Fűtésienergia fogyasztás célérték, kWh/év, 2030"]
[null,"Ifjusági szállás",null,null,null,{"$f":"C35-C35*(E35/100)","v":0},null,{"$f":"C35-C35*(G35/100)","v":0},null,{"$f":"C35-C35*(I35/100)","v":0}]
[null,"Kultúrház",null,null,null,0,null,0,null,0]
[null,"Vendégház",null,null,null,0,null,0,null,0]
[null,"Közösségi ház",null,null,null,0,null,0,null,0]
[null,"Polgármesteri Hivatal ",null,null,null,0,null,0,null,0]
[null,"Idősek Otthona (önkormányzati tulajdonban)",null,null,null,0,null,0,null,0]
[null,"Fűtési energiafogyasztás összesen",{"$f":"SUM(C35:C40)","v":0},{"$f":"SUM(D35:D40)","v":0},null,{"$f":"SUM(F35:F40)","v":0},null,{"$f":"SUM(H35:H40)","v":0},null,{"$f":"SUM(J35:J40)","v":0}]
[]
[]
[]
[]
[]
[]
["Szektor 3"]
[]
[null,"Kereskedelem, szolgáltatás, ipar             Fűtésienergia fogyasztás","Abszolút érték","Átlagos fűtésienergiafogyasztás ","Fűtésienergia fogyasztás , kWh/év, bázisév              ","Csökkenés bázisév-2019 között, %","Fűtésienergia fogyasztás , kWh/év, terv kidolgozásának éve ","Csökkenés bázisév-2022 között, %","Fűtésienergia fogyasztás , kWh/év,2022  ","Csökkenés bázisév-2025 között, %","Fűtésienergia fogyasztás , kWh/év,2025  ","Csökkenés bázisév-2030 között, %","Fűtésienergia fogyasztás , kWh/év,2030  "]
[null,"Irodák (m2)",null,102,{"$f":"C51*D51","v":0},null,{"$f":"E51-E51*(F51/100)","v":0},null,{"$f":"E51-E51*(H51/100)","v":0},null,{"$f":"E51-E51*(J51/100)","v":0},null,{"$f":"E51-E51*(L51/100)","v":0}]
[null,"Étterem",null,5562,0,null,0,null,0,null,0,null,0]
[null,"Élelmiszer kereskedelem (dolgozók száma)",null,6921,0,null,0,null,0,null,0,null,0]
[null,"Kereskedelem (dolgozók száma)",null,4530,0,null,0,null,0,null,0,null,0]
[null,"Gyártási szektor (fűtési energiafogyasztás kWh)",null,1,0,null,0,null,0,null,0,null,0]
[null,"Turizmus (ágyak)",null,6219,0,null,0,null,0,null,0,null,0]
[null,"Fűtési energiafogyasztás összesen",null,null,{"$f":"SUM(E51:E56)","v":0},null,0,null,0,null,0,null,0]
[null,"Forrás: Energiafogyasztás dolgozó/ágyak: www.oegut.at/downloads/pdf/e_kennzahlen-ev-dlg_zb.pdf"]
[]
[]
[]
[]
["Összesen (Szektor 1+2+3)"]
[]
[null,"Fűtésienergia fogyasztás szektoronként","Bázisév                                       kWh/év","terv kidolgozásának éve                                         kWh/év","2022                                             kWh/év","2025                                             kWh/év","2030                                             kWh/év"]
[null,"Lakosság",{"$f":"(J26)","v":0},{"$f":"SUM(K26)","v":0},{"$f":"SUM(L26)","v":0},{"$f":"SUM(M26)","v":0},{"$f":"SUM(N26)","v":0}]
[null,"Középületek, létesítmények/berendezések",{"$f":"SUM(C41)","v":0},{"$f":"SUM(D41)","v":0},{"$f":"SUM(F41)","v":0},{"$f":"SUM(H41)","v":0},{"$f":"SUM(J41)","v":0}]
[null,"Kereskedelem, szolgáltatás, ipar    ",{"$f":"SUM(E57)","v":0},{"$f":"SUM(G57)","v":0},{"$f":"SUM(I57)","v":0},{"$f":"SUM(K57)","v":0},{"$f":"SUM(M57)","v":0}]
[null,"Összesen (Szektor 1+2+3)",{"$f":"SUM(C66:C68)","v":0},{"$f":"SUM(D66:D68)","v":0},{"$f":"SUM(E66:E68)","v":0},{"$f":"SUM(F66:F68)","v":0},{"$f":"SUM(G66:G68)","v":0}]
[]
[]
[]
[]
[]
["2. Energiafogyasztás energiahordozónként"]
[]
[null,"Fűtésienergia termelés energiahordozónként a település(rész)/kerület(rész)ben az összes fűtésienergia fogyasztásban (%) "," Biomassza (fa)","Biogáz","Napenergia (napkollektor)","Geotermikus","Hőszivattyú","Fűtőolaj","Villamosenergia","Gáz","Szén","Települési hulladék (biomasszahányad)","Települési hulladék (nem biomassza hányad)","Egyéb energiahordozó","Összesen"]
[null,"Bázisév",null,null,null,null,null,null,null,null,null,null,null,null,{"$f":"SUM(C78:N78)","v":0},"%"]
[null,"Abszolút érték kWh/év",{"$f":"SUM(C69*0.01*C78)","v":0},{"$f":"SUM(C69*0.01*D78)","v":0},{"$f":"SUM(C69*0.01*E78)","v":0},{"$f":"SUM(C69*0.01*F78)","v":0},{"$f":"SUM(C69*0.01*G78)","v":0},{"$f":"SUM(C69*0.01*H78)","v":0},{"$f":"SUM(C69*0.01*I78)","v":0},{"$f":"SUM(C69*0.01*J78)","v":0},{"$f":"SUM(C69*0.01*K78)","v":0},{"$f":"SUM(C69*0.01*L78)","v":0},{"$f":"SUM(C69*0.01*M78)","v":0},{"$f":"SUM(C69*0.01*N78)","v":0},{"$f":"SUM(C79:N79)","v":0}]
[null,"CO2 Faktor t/kWh",1E-4,2.8400000000000002E-4,6.0000000000000002E-5,3.4999999999999997E-5,1.4799999999999999E-4,2.6699999999999998E-4,2.5599999999999999E-4,2.02E-4,3.5399999999999999E-4,1.06E-4,2.9500000000000001E-4]
[null,"t CO2",{"$f":"SUM(C79*C80)","v":0},0,0,null,0,0,0,0,null,0,0,0,{"$f":"SUM(C81:N81)","v":0},"Fűtés bázisév"]
[]
[]
[null,null," Biomassza (fa)","Biogáz","Napenergia (napkollektor)","Geotermikus","Hőszivattyú","Fűtőolaj","Villamosenergia","Gáz","Szén","Települési hulladék (biomasszahányad)","Települési hulladék (nem biomassza hányad)","Egyéb energiahordozó","Összesen"]
[null,"Terv kidolgozásának éve",null,null,null,null,null,null,null,null,null,null,null,null,{"$f":"SUM(C85:N85)","v":0},"%",null,null,null,null,null,null,null,null,null,null,null,null,null,null,null,null,null,null,null,null,null,null,null,null,null,null,null,null,null,null,null,null,null,null,null,null,null,null,null,null,null,null,null,null,null,null,null,null,null,null,null,null,null,null,null,null,null,null,null,null,null,null,null,null,null,null,null,null,null,null,null,null,null,null,null,null,null,null,null,null,null,null,null,null,null,null,null,null,null,null,null,null,null,null,null,null,null,null,null,null,null,null,null,null,null,null,null,null,null,null,null,null,null,null,0]
[null,"Abszolút érték kWh/év",{"$f":"SUM(D69*0.01*C85)","v":0},{"$f":"SUM(D69*0.01*D85)","v":0},{"$f":"SUM(D69*0.01*E85)","v":0},{"$f":"SUM(D69*0.01*F85)","v":0},{"$f":"SUM(D69*0.01*G85)","v":0},{"$f":"SUM(D69*0.01*H85)","v":0},{"$f":"SUM(D69*0.01*I85)","v":0},{"$f":"SUM(D69*0.01*J85)","v":0},{"$f":"SUM(D69*0.01*K85)","v":0},{"$f":"SUM(D69*0.01*L85)","v":0},{"$f":"SUM(D69*0.01*M85)","v":0},{"$f":"SUM(D69*0.01*N85)","v":0},{"$f":"SUM(C86:N86)","v":0}]
[null,"CO2 Faktor t/kWh",1E-4,2.8400000000000002E-4,6.0000000000000002E-5,3.4999999999999997E-5,1.4799999999999999E-4,2.6699999999999998E-4,2.5599999999999999E-4,2.02E-4,3.5399999999999999E-4,1.06E-4,2.9500000000000001E-4]
[null,"t CO2",{"$f":"SUM(C86*C87)","v":0},0,0,null,0,0,0,0,null,0,0,0,{"$f":"SUM(C88:N88)","v":0},"Fűtés 2019"]
[]
[]
[null,null," Biomassza (fa)","Biogáz","Napenergia (napkollektor)","Geotermikus","Hőszivattyú","Fűtőolaj","Villamosenergia","Gáz","Szén","Települési hulladék (biomasszahányad)","Települési hulladék (nem biomassza hányad)","Egyéb energiahordozó","Összesen"]
[null,"Célérték 2022",null,null,null,null,null,null,null,null,null,null,null,null,{"$f":"SUM(C92:N92)","v":0},"%"]
[null,"Abszolút érték kWh/év",{"$f":"SUM(E69*0.01*C92)","v":0},{"$f":"SUM(E69*0.01*D92)","v":0},{"$f":"SUM(E69*0.01*E92)","v":0},{"$f":"SUM(E69*0.01*F92)","v":0},{"$f":"SUM(E69*0.01*G92)","v":0},{"$f":"SUM(E69*0.01*H92)","v":0},{"$f":"SUM(E69*0.01*I92)","v":0},{"$f":"SUM(E69*0.01*J92)","v":0},{"$f":"SUM(E69*0.01*K92)","v":0},{"$f":"SUM($E69*0.01*L92)","v":0},{"$f":"SUM(E69*0.01*M92)","v":0},{"$f":"SUM(E69*0.01*N92)","v":0},{"$f":"SUM(C93:N93)","v":0}]
[null,"CO2 Faktor t/kWh",1E-4,2.8400000000000002E-4,6.0000000000000002E-5,3.4999999999999997E-5,1.4799999999999999E-4,2.6699999999999998E-4,2.5599999999999999E-4,2.02E-4,3.5399999999999999E-4,1.06E-4,2.9500000000000001E-4]
[null,"t CO2",{"$f":"SUM(C93*C94)","v":0},0,0,null,0,0,0,0,null,0,0,0,{"$f":"SUM(C95:N95)","v":0},"Fűtés 2022"]
[]
[]
[null,null," Biomassza (fa)","Biogáz","Napenergia (napkollektor)","Geotermikus","Hőszivattyú","Fűtőolaj","Villamosenergia","Gáz","Szén","Települési hulladék (biomasszahányad)","Települési hulladék (nem biomassza hányad)","Egyéb energiahordozó","Összesen"]
[null,"Célérték 2025",null,null,null,null,null,null,null,null,null,null,null,null,{"$f":"SUM(C99:N99)","v":0},"%"]
[null,"Abszolút érték kWh/év",{"$f":"SUM(F69*0.01*C99)","v":0},{"$f":"SUM(F69*0.01*D99)","v":0},{"$f":"SUM(F69*0.01*E99)","v":0},{"$f":"SUM(F69*0.01*F99)","v":0},{"$f":"SUM(F69*0.01*G99)","v":0},{"$f":"SUM(F69*0.01*H99)","v":0},{"$f":"SUM(F69*0.01*I99)","v":0},{"$f":"SUM(F69*0.01*J99)","v":0},{"$f":"SUM(F69*0.01*K99)","v":0},{"$f":"SUM(F69*0.01*L99)","v":0},{"$f":"SUM(F69*0.01*M99)","v":0},{"$f":"SUM(F69*0.01*N99)","v":0},{"$f":"SUM(C100:N100)","v":0}]
[null,"CO2 Faktor t/kWh",1E-4,2.8400000000000002E-4,6.0000000000000002E-5,3.4999999999999997E-5,1.4799999999999999E-4,2.6699999999999998E-4,2.5599999999999999E-4,2.02E-4,3.5399999999999999E-4,1.06E-4,2.9500000000000001E-4]
[null,"t CO2",{"$f":"SUM(C100*C101)","v":0},0,0,null,0,0,0,0,null,0,0,0,{"$f":"SUM(C102:N102)","v":0},"Fűtés 2025"]
[]
[]
[null,null," Biomassza (fa)","Biogáz","Napenergia (napkollektor)","Geotermikus","Hőszivattyú","Fűtőolaj","Villamosenergia","Gáz","Szén","Települési hulladék (biomasszahányad)","Települési hulladék (nem biomassza hányad)","Egyéb energiahordozó","Összesen"]
[null,"Célérték 2030",null,null,null,null,null,null,null,null,null,null,null,null,{"$f":"SUM(C106:N106)","v":0},"%"]
[null,"Abszolút érték kWh/év",{"$f":"SUM(G69*0.01*C106)","v":0},{"$f":"SUM(G69*0.01*D106)","v":0},{"$f":"SUM(G69*0.01*E106)","v":0},null,{"$f":"SUM(G69*0.01*G106)","v":0},{"$f":"SUM(G69*0.01*H106)","v":0},{"$f":"SUM(G69*0.01*I106)","v":0},{"$f":"SUM(G69*0.01*J106)","v":0},{"$f":"SUM(G69*0.01*K106)","v":0},{"$f":"SUM(G69*0.01*L106)","v":0},{"$f":"SUM(G69*0.01*M106)","v":0},{"$f":"SUM(G69*0.01*N106)","v":0},{"$f":"SUM(C107:N107)","v":0}]
[null,"CO2 Faktor t/kWh",1E-4,2.8400000000000002E-4,6.0000000000000002E-5,3.4999999999999997E-5,1.4799999999999999E-4,2.6699999999999998E-4,2.0000000000000001E-4,2.02E-4,3.5399999999999999E-4,1.06E-4,2.9500000000000001E-4]
[null,"t CO2",{"$f":"SUM(C107*C108)","v":0},0,0,null,0,0,0,0,null,0,0,0,{"$f":"SUM(C109:N109)","v":0},"Fűtés 2030"]
[]
[]
[null,"Emissziós faktorok forrása (LCA t CO2 egyenérték / kWh):","CoM Default Emission Factors for the\nMember States of the European Union. Dataset Version 2017"]
[null,null,"https://www.covenantofmayors.eu/index.php?option=com_attachments&task=download&id=326"]

{"sheet":"Villamosenergia","index":2,"n_rows":127,"n_cols":14,"rows_kept":127,"cut":false,"hidden":false,"merged":[[0,0,2,15],[5,0,5,15],[126,2,126,7]]}
["           "]
[]
[]
[]
[]
["Épületek, létesítmények/berendezések, ipar"]
["1. Energiafogyasztás szektoronként"]
["Szektor 1"]
[]
[null,"Lakossági                                                            Villamosenergia fogyasztás","Házak/lakások száma","Villamosenergia fogyasztás, kWh/év ház/lakásonként (melegvízfogyasztás nélkül,3 fő)","Villamosenergia fogyasztás, kWh/év, bázisév","Csökkenés bázisév-terv kidolgozásának éve között, %","Villamosenergia fogyasztás, kWh/év, terv kidolgozásának éve","Csökkenés bázisév-2022 között, %","Villamosenergia fogyasztás, kWh/év, 2022","Csökkenés bázisév-2025 között, %","Villamosenergia fogyasztás, kWh/év, 2025","Csökkenés bázisév-2030 között, %","Villamosenergia fogyasztás, kWh/év, 20230"]
[null,"Családi házak",{"$f":"SUM(Fűtés!C12:C20)","v":0},2070,{"$f":"SUM(C11*D11)","v":0},0,{"$f":"E11-E11*(F11/100)","v":0},null,{"$f":"E11-E11*(H11/100)","v":0},null,{"$f":"E11-E11*(J11/100)","v":0},null,{"$f":"E11-E11*(L11/100)","v":0}]
[null,"Lakások társasházakban ",{"$f":"SUM(Fűtés!C22:C23)","v":0},1800,{"$f":"SUM(C12*D12)","v":0},null,{"$f":"E12-E12*(F12/100)","v":0},null,{"$f":"E12-E12*(H12/100)","v":0},null,{"$f":"E12-E12*(J12/100)","v":0},null,{"$f":"E12-E12*(L12/100)","v":0}]
[null,"Önkormányzati/szociális lakások ",{"$f":"SUM(Fűtés!C23:C24)","v":0},0,{"$f":"D13*C13","v":0},null,{"$f":"E13-E13*(F13/100)","v":0},null,{"$f":"E13-E13*(H13/100)","v":0},null,{"$f":"E13-E13*(J13/100)","v":0},null,{"$f":"E13-E13*(L13/100)","v":0}]
[null,"Villamosenergia fogyasztás összesen",{"$f":"SUM(C11:C13)","v":0},null,{"$f":"SUM(E11:E12)","v":0},null,{"$f":"SUM(G11:G12)","v":0},null,{"$f":"SUM(I11:I12)","v":0},null,{"$f":"SUM(K11:K12)","v":0},null,{"$f":"SUM(M11:M12)","v":0}]
[null,null,null,null,null,null,null,null,null,null,null,null,{"$f":"1-M14/E14","v":{"$error":"#DIV/0!"}}]
[null,"Forrás: Villamosenergia fogyasztás, forrás: https://elmuemasz.hu/egyetemes-szolgaltatas/szolgaltatasok/villamos-energia/aramdij-kalkulatorok/lakossagi-aramdij-elmu"]
[]
[]
[]
[]
["Szektor 2"]
[]
[null,"Középületek, létesítmények/berendezések                                                                                 Villamosenergia fogyasztás","Villamosenergia fogyasztás, kWh/év, bázisév","Villamosenergia fogyasztás, kWh/év, terv kidolgozásának éve","Csökkenés bázisév-2022 között, %","Villamosenergia fogyasztás, kWh/év, 2022","Csökkenés bázisév-2025 között, %","Villamosenergia fogyasztás, kWh/év, 2025","Csökkenés bázisév-2030 között, %","Villamosenergia fogyasztás, kWh/év, 2030"]
[null,"Ifjusági szállás",null,null,null,{"$f":"C24-C24*(E24/100)","v":0},null,{"$f":"C24-C24*(G24/100)","v":0},null,{"$f":"C24-C24*(I24/100)","v":0}]
[null,"Kultúrház",null,null,null,0,null,0,null,0]
[null,"Vendégház",null,null,null,0,null,0,null,0]
[null,"Közösségi ház",null,null,null,0,null,0,null,0]
[null,"Polgármesteri Hivatal ",null,null,null,0,null,0,null,0]
[null,"Idősek Otthona (önkormányzati tulajdonban)",null,null,null,0,null,0,null,0]
[null,"Villamosenergia fogyasztás összesen",{"$f":"SUM(C24:C29)","v":0},{"$f":"SUM(D24:D29)","v":0},null,{"$f":"SUM(F24:F29)","v":0},null,{"$f":"SUM(H24:H29)","v":0},null,{"$f":"SUM(J24:J29)","v":0}]
[]
[]
[]
[]
[]
[]
[]
[null,"Közvilágítás","Villamosenergia fogyasztás  /villanyégő W","Bekapcsolt állapot időtartama (óra/nap)","Villanyégők száma, bázisév","Villanyégők száma, terv kidolgozásának éve","Villanyégők száma, 2022","Villanyégők száma, 2025","Villanyégők száma, 2030","Villamosenergia fogyasztás  /villanyégő kwh/év, bázisév","Villamosenergia fogyasztás  /villanyégő kwh/év, terv kidolgozásának éve","Villamosenergia fogyasztás  /villanyégő kwh/év, 2022","Villamosenergia fogyasztás  /villanyégő kwh/év, 2025","Villamosenergia fogyasztás  /villanyégő kwh/év, 2030"]
[null,"Sodium vapor lamp 110W",null,null,null,null,null,null,null,{"$f":"C39*D39*E39*365/1000","v":0},{"$f":"C39*D39*F39*365/1000","v":0},{"$f":"C39*D39*G39*365/1000","v":0},{"$f":"C39*D39*H39*365/1000","v":0},{"$f":"C39*D39*I39*365/1000","v":0}]
[null,"Quicksilver 125W",null,null,null,null,null,null,null,0,0,0,0,0]
[null,"LED 43W",null,null,null,null,null,null,null,0,0,0,0,0]
[null,"Egyéb",null,null,null,null,null,null,null,0,0,0,0,0]
[null,"Egyéb",null,null,null,null,null,null,null,0,0,0,0,0]
[null,"Egyéb",null,null,null,null,null,null,null,0,0,0,0,0]
[null,"Egyéb",null,null,null,null,null,null,null,0,0,0,0,0]
[null,"Villamosenergia fogyasztás összesen",{"$f":"SUM(J39:J45)","v":0},null,null,null,null,null,null,{"$f":"SUM(J39:J45)","v":0},{"$f":"SUM(K39:K45)","v":0},{"$f":"SUM(L39:L45)","v":0},{"$f":"SUM(M39:M45)","v":0},{"$f":"SUM(N39:N45)","v":0}]
[]
[]
[]
[]
[]
[]
["Szektor 3"]
[]
[null,"Kereskedelem, szolgáltatás, ipar             Villamosenergia fogyasztás","Dolgozók/ágyak száma, abszolút érték","Villamosenergia fogyasztás kWh/év/\ndolgozó/ágy","Villamosenergia fogyasztás , kWh/év, bázisév              ","Csökkenés bázisév-terv kidolgozásának éve között, %","Villamosenergia fogyasztás , kWh/év, terv kidolgozásának éve","Csökkenés bázisév-2022 között, %","Villamosenergia fogyasztás , kWh/év, 2022            ","Csökkenés bázisév-2025 között, %","Villamosenergia fogyasztás , kWh/év, 2025            ","Csökkenés bázisév-2030 között, %","Villamosenergia fogyasztás , kWh/év, 2030            "]
[null,"Irodák (dolgozók száma)",null,2586,{"$f":"C56*D56","v":0},null,{"$f":"E56-E56*(F56/100)","v":0},2,{"$f":"E56-E56*(H56/100)","v":0},5,{"$f":"E56-E56*(J56/100)","v":0},6,{"$f":"E56-E56*(L56/100)","v":0}]
[null,"Étterem  (dolgozók száma)",{"$f":"Fűtés!C52","v":0},8833,0,null,0,null,0,null,0,null,0]
[null,"Élelmiszer kereskedelem (dolgozók száma)",{"$f":"Fűtés!C53","v":0},16147,0,null,0,3,0,6,0,7,0]
[null,"Kereskedelem (dolgozók száma)",{"$f":"Fűtés!C54","v":0},3566,0,null,0,0,0,2,0,4,0]
[null,"Gyártási szektor  (villamosenergia fogyasztás kWh)",null,1,0,null,0,null,0,null,0,null,0]
[null,"Turizmus (ágyak)",{"$f":"Fűtés!C56","v":0},3226,0,null,0,null,0,null,0,null,0]
[null,"Villamosenergia fogyasztás összesen",null,null,{"$f":"SUM(E56:E61)","v":0},null,{"$f":"SUM(G56:G61)","v":0},null,{"$f":"SUM(I56:I61)","v":0},null,{"$f":"SUM(K56:K61)","v":0},0.15,{"$f":"E62*(1-L62)","v":0}]
[null,"Forrás: Villamosenergia fogyasztás dolgozó/ágy","https://www.oegut.at/downloads/pdf/e_kennzahlen-ev-dlg_zb.pdf",null,null,null,null,null,null,null,null,null,{"$f":"M62/E62","v":{"$error":"#DIV/0!"}}]
[]
[]
["Összesen (Szektor 1+2+3)"]
[]
[null,"Villamosenergia fogyasztás szektoronként","Bázisév                                       kWh/év","terv kidolgozásának éve                                            kWh/év","2022                                             kWh/év","2025                                             kWh/év","2030                                             kWh/év"]
[null,"Lakosság",{"$f":"Villamosenergia!E14","v":0},{"$f":"Villamosenergia!E14","v":0},{"$f":"Villamosenergia!I14","v":0},{"$f":"Villamosenergia!K14","v":0},{"$f":"Villamosenergia!M14","v":0}]
[null,"Középületek, létesítmények/berendezések",{"$f":"SUM(C30)","v":0},{"$f":"SUM(D30)","v":0},{"$f":"SUM(F30)","v":0},{"$f":"SUM(H30)","v":0},{"$f":"SUM(J30)","v":0}]
[null,"Közvilágítás",{"$f":"SUM(C46)","v":0},{"$f":"SUM(J46)","v":0},{"$f":"SUM(K46)","v":0},{"$f":"SUM(L46)","v":0},{"$f":"SUM(M46)","v":0}]
[null,"Kereskedelem, szolgáltatás, ipar    ",{"$f":"SUM(E62)","v":0},{"$f":"SUM(G62)","v":0},{"$f":"SUM(I62)","v":0},{"$f":"SUM(K62)","v":0},{"$f":"SUM(M62)","v":0}]
[null,"Összesen, kWh",{"$f":"SUM(C69:C72)","v":0},{"$f":"SUM(D69:D72)","v":0},{"$f":"SUM(E69:E72)","v":0},{"$f":"SUM(F69:F72)","v":0},{"$f":"SUM(G69:G72)","v":0}]
[]
[]
[]
[]
[]
["2. Energiafogyasztás energiahordozónként"]
[]
[null,"Villamosenergia termelés energiahordozónként a település(rész)/kerület(rész)ben az összes villamosenergia fogyasztásban (%) ","Szélenergia","Napenergia (fotovoltaikus)","Vízenergia","Fűtőolaj/dízel","Szén","Gáz","Atom","Egyéb (pl. biomassza, \nhulladék)","Összesen"]
[null,"Bázisév",2.13,4.38,0.64,0.2,12.25,25.08,47.69,7.63,{"$f":"SUM(C82:J82)","v":100},"%"]
[null,"Abszolút érték kWh/év",{"$f":"SUM(C73*0.01*C82)","v":0},{"$f":"SUM(C73*0.01*D82)","v":0},{"$f":"SUM(C73*0.01*E82)","v":0},{"$f":"SUM(C73*0.01*F82)","v":0},{"$f":"SUM(C73*0.01*G82)","v":0},{"$f":"SUM(C73*0.01*H82)","v":0},{"$f":"SUM(C73*0.01*I82)","v":0},{"$f":"SUM(C73*0.01*J82)","v":0},{"$f":"SUM(C83:J83)","v":0}]
[null,"CO2 Faktor t/kWh",1.5E-5,6.0000000000000002E-5,1.0000000000000001E-5,2.6699999999999998E-4,3.5399999999999999E-4,2.02E-4,2.0000000000000002E-5,1.0000000000000001E-5]
[null,"t CO2",{"$f":"SUM(C83*C84)","v":0},0,0,0,0,0,null,0,{"$f":"SUM(C85:J85)","v":0},"Villamosenergia bázisév"]
[null,null,null,null,null,null,null,null,null,null,{"$f":"[2]Fűtés!Q81","v":0},"Fűtés bázisév"]
[null,null,null,null,null,null,null,null,null,"Összesen",{"$f":"SUM(K85:K86)","v":0},"Villamos és fűtésienergia bázisév"]
[null,null,null,null,null,0]
[]
[null,null,"Szélenergia","Napenergia (fotovoltaikus)","Vízenergia","Fűtőolaj/dízel","Szén","Gáz","Atom","Egyéb (pl. biomassza, \nhulladék,geotermikus)","Összesen"]
[null,"Terv kidolgozásának éve",2.13,4.38,0.64,0.2,12.25,25.08,47.69,7.63,{"$f":"SUM(C91:J91)","v":100},"%"]
[null,"Abszolút érték kWh/év",{"$f":"SUM(D73*0.01*C91)","v":0},{"$f":"SUM(D73*0.01*D91)","v":0},{"$f":"SUM(D73*0.01*E91)","v":0},{"$f":"SUM(D73*0.01*F91)","v":0},{"$f":"SUM(D73*0.01*G91)","v":0},{"$f":"SUM(D73*0.01*H91)","v":0},{"$f":"SUM(D73*0.01*I91)","v":0},{"$f":"SUM(D73*0.01*J91)","v":0},{"$f":"SUM(C92:J92)","v":0}]
[null,"CO2 Faktor t/kWh",1.5E-5,6.0000000000000002E-5,1.0000000000000001E-5,2.6699999999999998E-4,3.5399999999999999E-4,2.02E-4,2.0000000000000002E-5,1.0000000000000001E-5]
[null,"t CO2",{"$f":"SUM(C92*C93)","v":0},0,0,0,0,0,null,0,{"$f":"SUM(C94:J94)","v":0},"Villamosenergia 2019"]
[null,null,null,null,null,null,null,null,null,null,{"$f":"[2]Fűtés!Q88","v":0},"Fűtés 2019"]
[null,null,null,null,null,null,null,null,null,"Összesen",{"$f":"SUM(K94:K95)","v":0},"Villamos és fűtésienergia 2019"]
[]
[]
[null,null,"Szélenergia","Napenergia (fotovoltaikus)","Vízenergia","Fűtőolaj/dízel","Szén","Gáz","Atom","Egyéb (pl. biomassza, \nhulladék)","Összesen"]
[null,"Célérték 2022",2,10,0,0.3,8,25,47.7,7,{"$f":"SUM(C100:J100)","v":100},"%"]
[null,"Abszolút érték kWh/év",{"$f":"SUM($E73*0.01*C100)","v":0},{"$f":"SUM($E73*0.01*D100)","v":0},0,0,0,0,0,0,{"$f":"SUM(C101:J101)","v":0}]
[null,"CO2 Faktor t/kWh",1.5E-5,6.0000000000000002E-5,1.0000000000000001E-5,2.6699999999999998E-4,3.5399999999999999E-4,2.02E-4,2.0000000000000002E-5,1.0000000000000001E-5]
[null,"t CO2",{"$f":"SUM(C101*C102)","v":0},0,0,0,0,0,null,0,{"$f":"SUM(C103:J103)","v":0},"Villamosenergia 2022"]
[null,null,null,null,null,null,null,null,null,null,{"$f":"[2]Fűtés!Q95","v":0},"Fűtés 2022"]
[null,null,null,null,null,null,null,null,null,"Összesen",{"$f":"SUM(K103:K104)","v":0},"Villamos és fűtésienergia 2022"]
[]
[]
[null,null,"Szélenergia","Napenergia (fotovoltaikus)","Vízenergia","Fűtőolaj/dízel","Szén","Gáz","Atom","Egyéb (pl. biomassza, \nhulladék)","Összesen"]
[null,"Célérték 2025",2,15,0,0.2,8.0299999999999994,20.079999999999998,47.69,7,{"$f":"SUM(C109:J109)","v":100},"%"]
[null,"Abszolút érték kWh/év",{"$f":"SUM(F73*0.01*C109)","v":0},{"$f":"SUM(F73*0.01*D109)","v":0},{"$f":"SUM(F73*0.01*E109)","v":0},{"$f":"SUM(F73*0.01*F109)","v":0},{"$f":"SUM(F73*0.01*G109)","v":0},{"$f":"SUM($F73*0.01*H109)","v":0},{"$f":"SUM($F73*0.01*I109)","v":0},{"$f":"SUM(F73*0.01*J109)","v":0},{"$f":"SUM(C110:J110)","v":0}]
[null,"CO2 Faktor t/kWh",1.5E-5,6.0000000000000002E-5,1.0000000000000001E-5,2.6699999999999998E-4,3.5399999999999999E-4,2.02E-4,2.0000000000000002E-5,1.0000000000000001E-5]
[null,"t CO2",{"$f":"SUM(C110*C111)","v":0},0,0,0,0,0,null,0,{"$f":"SUM(C112:J112)","v":0},"Villamosenergia 2025"]
[null,null,null,null,null,null,null,null,null,null,{"$f":"[2]Fűtés!Q102","v":0},"Fűtés 2025"]
[null,null,null,null,null,null,null,null,null,"Összesen",{"$f":"SUM(K112:K113)","v":0},"Villamos és fűtésienergia 2025"]
[]
[]
[null,null,"Szélenergia","Napenergia (fotovoltaikus)","Vízenergia","Fűtőolaj/dízel","Szén","Gáz","Atom","Egyéb (pl. biomassza, \nhulladék)","Total"]
[null,"Célérték 2030",2,29,0,0,0,15,54,null,{"$f":"SUM(C118:J118)","v":100},"%"]
[null,"Abszolút érték kWh/év",{"$f":"SUM(G73*0.01*C118)","v":0},{"$f":"SUM(G73*0.01*D118)","v":0},{"$f":"SUM(G73*0.01*E118)","v":0},{"$f":"SUM(G73*0.01*F118)","v":0},{"$f":"SUM(G73*0.01*G118)","v":0},{"$f":"SUM(G73*0.01*H118)","v":0},{"$f":"SUM(G73*0.01*I118)","v":0},{"$f":"SUM(G73*0.01*J118)","v":0},{"$f":"SUM(C119:J119)","v":0}]
[null,"CO2 Faktor t/kWh",1.5E-5,6.0000000000000002E-5,1.0000000000000001E-5,2.6699999999999998E-4,3.5399999999999999E-4,2.02E-4,2.0000000000000002E-5,1.0000000000000001E-5]
[null,"t CO2",{"$f":"SUM(C119*C120)","v":0},0,0,0,0,0,null,0,{"$f":"SUM(C121:J121)","v":0},"Villamosenergia 2030"]
[null,null,null,null,null,null,null,null,null,null,{"$f":"[2]Fűtés!Q109","v":0},"Fűtés 2030"]
[null,null,null,null,null,null,null,null,null,"Összesen",{"$f":"SUM(K121:K122)","v":0},"Villamos és fűtésienergia 2030"]
[]
[]
[null,"Emissziós faktorok forrása (LCA t CO2 egyenérték / kWh):"," CoM Default Emission Factors for the\nMember States of the European Union. Dataset Version 2017"]
[null,null,"https://www.covenantofmayors.eu/index.php?option=com_attachments&task=download&id=326"]

{"sheet":"Közlekedés","index":3,"n_rows":42,"n_cols":12,"rows_kept":42,"cut":false,"hidden":false,"merged":[[43,1,43,2],[11,1,11,3],[12,1,12,3],[15,1,15,3],[16,1,16,3],[0,29,2,46],[0,0,2,28],[5,29,5,46],[5,0,5,28],[10,1,10,3],[41,1,41,2],[13,1,13,3],[14,1,14,3],[41,3,41,4],[17,1,17,3],[8,47,8,64],[8,65,8,73],[9,47,9,64],[9,65,9,73],[10,47,10,64],[10,65,10,73],[5,47,5,64],[5,65,5,73],[6,47,6,64],[6,65,6,73],[7,47,7,64],[7,65,7,73],[16,47,16,64],[16,65,16,73],[17,47,17,64],[17,65,17,73],[18,47,18,64],[18,65,18,73],[11,47,11,64],[11,65,11,73],[12,47,12,64],[12,65,12,73],[15,47,15,64],[15,65,15,73],[22,50,22,67],[22,68,22,76],[23,50,23,67],[23,68,23,76],[26,50,26,67],[26,68,26,76],[19,47,19,64],[19,65,19,73],[20,47,20,64],[20,65,20,73],[21,50,21,67],[21,68,21,76],[31,47,31,64],[31,65,31,73],[32,50,32,67],[32,68,32,76],[27,50,27,67],[27,68,27,76],[28,47,28,64],[28,65,28,73],[29,47,29,64],[29,65,29,73],[38,50,38,67],[38,68,38,76],[39,50,39,67],[39,68,39,76],[40,47,40,64],[40,65,40,73],[33,50,33,67],[33,68,33,76],[34,50,34,67],[34,68,34,76],[37,50,37,67],[37,68,37,76],[44,47,44,64],[44,65,44,73],[45,47,45,64],[45,65,45,73],[46,47,46,64],[46,65,46,73],[41,47,41,64],[41,65,41,73],[42,47,42,64],[42,65,42,73],[43,47,43,64],[43,65,43,73],[50,47,50,64],[50,65,50,73],[51,47,51,64],[51,65,51,73],[52,47,52,64],[52,65,52,73],[47,47,47,64],[47,65,47,73],[48,47,48,64],[48,65,48,73],[49,47,49,64],[49,65,49,73],[56,47,56,64],[56,65,56,73],[57,47,57,64],[57,65,57,73],[58,47,58,64],[58,65,58,73],[53,47,53,64],[53,65,53,73],[54,47,54,64],[54,65,54,73],[55,47,55,64],[55,65,55,73],[62,47,62,64],[62,65,62,73],[63,47,63,64],[63,65,63,73],[64,47,64,64],[64,65,64,73],[59,47,59,64],[59,65,59,73],[60,47,60,64],[60,65,60,73],[61,47,61,64],[61,65,61,73],[68,47,68,64],[68,65,68,73],[69,47,69,64],[69,65,69,73],[70,47,70,64],[70,65,70,73],[65,47,65,64],[65,65,65,73],[66,47,66,64],[66,65,66,73],[67,47,67,64],[67,65,67,73],[74,47,74,64],[74,65,74,73],[75,47,75,64],[75,65,75,73],[76,47,76,64],[76,65,76,73],[71,47,71,64],[71,65,71,73],[72,47,72,64],[72,65,72,73],[73,47,73,64],[73,65,73,73],[80,47,80,64],[80,65,80,73],[81,47,81,64],[81,65,81,73],[82,47,82,64],[82,65,82,73],[77,47,77,64],[77,65,77,73],[78,47,78,64],[78,65,78,73],[79,47,79,64],[79,65,79,73],[86,47,86,64],[86,65,86,73],[87,47,87,64],[87,65,87,73],[88,47,88,64],[88,65,88,73],[83,47,83,64],[83,65,83,73],[84,47,84,64],[84,65,84,73],[85,47,85,64],[85,65,85,73],[92,47,92,64],[92,65,92,73],[93,47,93,64],[93,65,93,73],[94,47,94,64],[94,65,94,73],[89,47,89,64],[89,65,89,73],[90,47,90,64],[90,65,90,73],[91,47,91,64],[91,65,91,73],[98,47,98,64],[98,65,98,73],[99,47,99,64],[99,65,99,73],[100,47,100,64],[100,65,100,73],[95,47,95,64],[95,65,95,73],[96,47,96,64],[96,65,96,73],[97,47,97,64],[97,65,97,73],[110,47,110,64],[110,65,110,73],[111,47,111,64],[111,65,111,73],[112,47,112,64],[112,65,112,73],[107,47,107,64],[107,65,107,73],[108,47,108,64],[108,65,108,73],[109,47,109,64],[109,65,109,73],[104,47,104,64],[104,65,104,73],[105,47,105,64],[105,65,105,73],[106,47,106,64],[106,65,106,73],[101,47,101,64],[101,65,101,73],[102,47,102,64],[102,65,102,73],[103,47,103,64],[103,65,103,73]]}
["                   "]
[]
[]
[]
[]
["Közlekedés"]
[]
["Szektor 4"]
[]
[]
[null,"Gépjárművek",null,null,"Bázisév","terv kidolgozásának éve",2022,2025,2030]
[null,"Regisztrált autó (dízel)"]
[null,"Regisztrált autó (benzin)"]
[null,"Regisztrált hibrid autó (dízel)"]
[null,"Regisztrált hibrid autó (benzin)"]
[null,"Regisztrált elektromos autó"]
[null,"Motorkerékpár"]
[null,"Összesen",null,null,{"$f":"SUM(E12:E17)","v":0},0,0,0,0]
[]
[]
[]
[null,"Gépjárművek\nEnergiafogyasztás","Fogyasztás kWh/km","Ø km/év","Bázisév\nkWh/év ","terv kidolgozásának éve\nkWh/év ","Ø km/év 2022","2022\nkWh/év ","Ø km/év 2025","2025\nkWh/év ","Ø km/év 2030","2030\nkWh/év "]
[null,"Regisztrált autó (dízel)",{"$f":"(6.8/100)*10.96","v":0.74528000000000016},13140,{"$f":"E12*(C23*D23)","v":0},{"$f":"F12*(C23*D23)","v":0},null,{"$f":"G12*C23*G23","v":0},null,{"$f":"H12*C23*I23","v":0},null,{"$f":"I12*C23*K23","v":0}]
[null,"Regisztrált autó (benzin)",{"$f":"(7.86/100)*9.61","v":0.75534599999999996},13140,0,{"$f":"F13*(C24*D24)","v":0},null,0,null,0,null,0]
[null,"Regisztrált hibrid autó (dízel)",0.66,13140,0,{"$f":"F14*(C25*D25)","v":0},null,0,null,0,null,0]
[null,"Regisztrált hibrid autó (benzin)",0.71,13140,0,{"$f":"F15*(C26*D26)","v":0},null,0,null,0,null,0]
[null,"Regisztrált elektromos autó",0.44752999999999998,13140,{"$f":"E16*(C27*D27)","v":0},{"$f":"F16*(C27*D27)","v":0},null,0,null,0,null,0]
[null,"Motorkerékpár",{"$f":"(3/100)*9.61","v":0.28829999999999995},3272,0,{"$f":"F17*C28*D28","v":0},null,0,null,0,null,0]
[null,"Összesen",null,null,{"$f":"SUM(E23:E28)","v":0},{"$f":"SUM(F23:F28)","v":0},null,{"$f":"SUM(H23:H28)","v":0},null,{"$f":"SUM(J23:J28)","v":0},null,{"$f":"SUM(L23:L28)","v":0}]
[null,"Forrás: Fogyasztás (kWh/km): Klímastratégia ÜHG leltár, "]
[]
[]
[null,"Gépjárművek\nCO2 ","CO2 kibocsátás tCO2/kWh","Ø km/év","Bázisév\nkWh/év ","terv kidolgozásának éve\nkWh/év ","Ø km/év 2022","2022\nkWh/év ","Ø km/év 2025","2025\nkWh/év ","Ø km/év 2030","2030\nkWh/év "]
[null,"Regisztrált autó (dízel)",2.6676E-4,{"$f":"D23","v":13140},{"$f":"SUM(E12*C34*D34)","v":0},{"$f":"SUM(F12*C34*D34)","v":0},{"$f":"G23","v":0},{"$f":"SUM(G12*C34*G34)","v":0},{"$f":"I23","v":0},{"$f":"SUM(H12*C34*I34)","v":0},{"$f":"K23","v":0},{"$f":"SUM(I12*C34*K34)","v":0}]
[null,"Regisztrált autó (benzin)",2.4948E-4,{"$f":"D24","v":13140},0,0,0,0,0,0,0,0]
[null,"Regisztrált hibrid autó (dízel)",1.8000000000000001E-4,13140,0,0,0,0,0,0,0,0]
[null,"Regisztrált hibrid autó (benzin)",1.6200000000000001E-4,13140,0,0,0,0,0,0,0,0]
[null,"Regisztrált elektromos autó",8.3848000000000001E-5,13140,0,0,0,0,0,0,0,0]
[null,"Motorkerékpár",2.4948E-4,3272,0,0,0,0,0,0,0,0]
[null,"Összesen",null,null,{"$f":"SUM(E34:E39)","v":0},{"$f":"SUM(F34:F39)","v":0},null,{"$f":"SUM(H34:H39)","v":0},null,{"$f":"SUM(J34:J39)","v":0},null,{"$f":"SUM(L34:L39)","v":0}]
[]
[null,"Energiafogyasztási és emissziós faktor forrás:",null,"Klímastratégia ÜHG leltár, https://www.autoverbrauch.at/"]

{"sheet":"Egyéb intézkedések","index":4,"n_rows":78,"n_cols":7,"rows_kept":78,"cut":false,"hidden":false,"merged":[[0,0,2,27],[0,28,2,45],[5,0,5,27],[5,28,5,45]]}
["                   "]
[]
[]
[]
[]
["Egyéb intézkedések"]
[]
[]
[]
["Közlekedés"]
[]
[null,"Közösségi autózás (Car-Sharing)","Bázisév","terv kidolgozásának éve",2022,2025,2030]
[null,"Elérhető autók száma",0,0,0,0,0]
[]
[]
[null,"E-mobilitás","Bázisév","terv kidolgozásának éve",2022,2025,2030]
[null,"Töltöállomások száma"]
[null,"Elérhető e-autók száma"]
[null,"Közösségi E-autó állomások száma"]
[null,"Közösségi E-bicikli állomások száma"]
[]
[]
[null,"Egyéb","Bázisév","terv kidolgozásának éve",2022,2025,2030]
[null,"Bicikliutak hossza (km)"]
[null,"Buszmegállók száma"]
[]
[null,null,"m2","m2","m2","m2","m2"]
[null,"Forgalomtól elzárt területek"]
[null,"Parkolóhelyek száma"]
[null,"Park & Ride (P+R)"]
[]
[]
[]
[]
["Amennyiben elérhető"]
[]
[]
[null,"Közlekedési eszközök használatának  megoszlása","Bázisév                            %","terv kidolgozásának éve%",20.22,20.25,20.3]
[null,"Közösségi közlekedés"]
[null,"Gyalogos közlekedés"]
[null,"Kerékpár"]
[null,"Autó"]
[null,"E-autó"]
[null,"Motorkerékpár"]
[null,"Egyéb"]
[null,"Összesen",{"$f":"SUM(C39:C45)","v":0},{"$f":"SUM(D39:D45)","v":0},{"$f":"SUM(E39:E45)","v":0},{"$f":"SUM(F39:F45)","v":0},{"$f":"SUM(G39:G45)","v":0}]
[]
[]
[]
[]
["Területhasználat / területrendezés"]
[]
[]
[null,"Zöldfelületek / rekreációs területek","Bázisév","terv kidolgozásának éve",2022,2025,2030]
[null,"Zöldfelületek száma (pl. közpark)",1,1,1,1,1]
[null,"Rekreációs területek száma (pl. uszoda)",1,1,1,11,1]
[]
[null,null,"m2","m2","m2","m2","m2"]
[null,"Zöldfelületek nagysága (pl. közpark)"]
[null,"Rekreációs területek nagysága (sportpark)"]
[]
[]
[null,"Településfejlesztés","Bázisév (lakos/km2)","terv kidolgozásának éve (lakos/km2)","2022 (lakos/km2)","2025 (lakos/km2)","2030 (lakos/km2)"]
[null,"Milyen beépítettségi sűrűséget jelez előre a településfejlesztési terv (ITS)? "]
[]
[null,"Vegyes használatú épületek","Bázisév","terv kidolgozásának éve",2022,2025,2030]
[null,"Vegyes használatú épületek száma"]
[]
[null,"Telekhely","Bázisév","terv kidolgozásának éve",2022,2025,2030]
[null,"Szabad telekhelyek száma"]
[null,"Beépített telekhelyek száma"]
[]
[]
[null,"Egyéb zöldfelület","Bázisév (m2)","terv kidolgozásának éve (m2)","2022 (m2)","2025 (m2)","2030 (m2)"]
[null,"Zöldtető"]
[null,"Zöld homlokzat"]
[]
[null,"Vízáteresztő felületek"]

{"sheet":"Költségvetés","index":5,"n_rows":82,"n_cols":66,"rows_kept":82,"cut":false,"hidden":false,"merged":[[0,19,2,36],[5,0,5,18],[0,0,2,18],[26,5,28,5],[26,6,28,6],[10,5,10,6],[15,2,15,3],[26,1,27,1],[11,2,11,3],[12,2,12,3],[13,2,13,3],[14,2,14,3],[26,2,26,3],[27,2,28,2],[27,3,28,3],[10,2,10,3]]}
["                   "]
[]
[]
[]
[]
["Költségvetés"]
[]
[]
[]
[]
[null,"Tervezett költségvetés","Ft",null,null,"Költségvetés",null,"Ft"]
[null,"Helyi önkormányzat saját forrása",null,null,null,"Elköltött",null,{"$f":"G30+G31+G32+G33+G34+G38+G39+G40+G41+G42+G46+G47+G48+G49+G50+G54+G55+G56+G57+G58+G62+G63+G64+G65+G66+G70+G71+G72+G73+G74+G78+G79+G80+G81+G82","v":0}]
[null,"Nemzeti pénzügyi forrás, fejlesztési program",null,null,null,"Fennmaradó",null,{"$f":"C16-H12","v":0}]
[null,"EU pénzügyi forrás, fejlesztési program"]
[null,"Privát forrás"]
[null,"Összesen",{"$f":"SUM(C12:D15)","v":0}]
[]
[]
[]
["Intézkedések"]
[]
[]
[]
[]
[]
[]
[null,"Intézkedések","Megvalósítás (dátum)",null,null,"Megvalósítás státusza","Költség  (Ft)"]
[null,null,"Kezdete","Vége"]
[null,"Épületek"]
[]
[]
[]
[]
[]
[null,null,null,null,null,null,{"$f":"SUM(G30:G34)","v":0}]
[]
[null,"Közlekedés",null,null,null,null,null,null,null,null,null,null,null,null,null,null,null,null,null,null,null,null,null,null,null,null,null,null,null,null,null,null,null,null,null,null,null,null,null,null,null,null,null,null,null,null,null,null,null,null,null,null,null,null,null,null,null,null,null,null,null,null,null,null,null,"Folyamatban"]
[null,null,null,null,null,null,null,null,null,null,null,null,null,null,null,null,null,null,null,null,null,null,null,null,null,null,null,null,null,null,null,null,null,null,null,null,null,null,null,null,null,null,null,null,null,null,null,null,null,null,null,null,null,null,null,null,null,null,null,null,null,null,null,null,null,"Befejezett"]
[null,null,null,null,null,null,null,null,null,null,null,null,null,null,null,null,null,null,null,null,null,null,null,null,null,null,null,null,null,null,null,null,null,null,null,null,null,null,null,null,null,null,null,null,null,null,null,null,null,null,null,null,null,null,null,null,null,null,null,null,null,null,null,null,null,"Elhalasztott"]
[null,null,null,null,null,null,null,null,null,null,null,null,null,null,null,null,null,null,null,null,null,null,null,null,null,null,null,null,null,null,null,null,null,null,null,null,null,null,null,null,null,null,null,null,null,null,null,null,null,null,null,null,null,null,null,null,null,null,null,null,null,null,null,null,null,"Nem kezdett"]
[]
[]
[null,null,null,null,null,null,{"$f":"SUM(G38:G42)","v":0}]
[]
[null,"Területhasználat / területrendezés"]
[]
[]
[]
[]
[]
[null,null,null,null,null,null,{"$f":"SUM(G46:G50)","v":0}]
[]
[null,"Közvilágítás"]
[]
[]
[null,null,"."]
[]
[]
[null,null,null,null,null,null,{"$f":"SUM(G54:G58)","v":0}]
[]
[null,"Fűtésienergia"]
[]
[]
[]
[]
[]
[null,null,null,null,null,null,{"$f":"SUM(G62:G66)","v":0}]
[]
[null,"Villamosenergia"]
[]
[]
[]
[]
[]
[null,null,null,null,null,null,{"$f":"SUM(G70:G74)","v":0}]
[]
[null,"Egyéb"]
[null,null,null,null,null,"[drop-down]"]
[null,null,null,null,null,"[drop-down]"]
[null,null,null,null,null,"[drop-down]"]
[null,null,null,null,null,"[drop-down]"]
[null,null,null,null,null,"[drop-down]"]

{"sheet":"Összesítő","index":6,"n_rows":99,"n_cols":14,"rows_kept":99,"cut":false,"hidden":false,"merged":[[0,19,2,36],[5,0,5,18],[29,7,30,8],[67,7,68,8],[48,7,49,8],[0,0,2,18],[67,9,68,9],[67,10,68,10],[67,11,68,11],[67,12,68,12],[67,13,68,13],[69,7,69,8],[90,11,91,11],[90,12,91,12],[70,7,70,8],[71,7,71,8],[90,9,91,9],[90,7,91,7],[90,10,91,10],[90,8,91,8]]}
["                   "]
[]
[]
[]
[]
["Összesítő"]
["Megvalósítás állapota"]
[]
[]
["Felhasznált pénzügyi keret"]
[]
[]
[null,null,null,null,null,null,null,"Költségvetés","Ft"]
[null,null,null,null,null,null,null,"Elköltött",{"$f":"Költségvetés!H12","v":0}]
[null,null,null,null,null,null,null,"Fennmaradó",{"$f":"SUM(Költségvetés!C12:D15)-I14","v":0}]
[]
[]
[]
[]
[]
[]
[]
[]
[]
[]
[]
["CO2 kibocsátás"]
[]
[]
[null,null,null,null,null,null,null,"CO2 kibocsátás összesen (tCO2/év)",null,"Bázisév","terv kidolgozásának éve",2022,2025,2030]
[null,null,null,null,null,null,null,null,null,{"$f":"Általános!D43","v":0},{"$f":"Általános!E43","v":0},{"$f":"Általános!F43","v":0},{"$f":"Általános!G43","v":0},{"$f":"Általános!H43","v":0}]
[]
[]
[]
[]
[]
[]
[]
[]
[]
[]
[]
[]
[]
[]
["Energiafogyasztás"]
[]
[]
[null,null,null,null,null,null,null,"Energiafogyasztás összesen  (kWh/év)",null,"Bázisév","terv kidolgozásának éve",2022,2025,2030]
[null,null,null,null,null,null,null,null,null,{"$f":"Általános!D57","v":0},{"$f":"Általános!E57","v":0},{"$f":"Általános!F57","v":0},{"$f":"Általános!G57","v":0},{"$f":"Általános!H57","v":0}]
[]
[]
[]
[]
[]
[]
[]
[]
[]
[]
[]
[]
[]
[]
[]
["Megújuló energiaforrás alapú energiatermelés"]
[]
[null,null,null,null,null,null,null,"Megújuló energiaforrás alapú energiatermelés összesen\n (kWh/év)",null,"Bázisév","terv kidolgozásának éve",2022,2025,2030]
[]
[null,null,null,null,null,null,null,"Fűtésienergia",null,{"$f":"Fűtés!C79+Fűtés!D79+Fűtés!E79","v":0},{"$f":"Fűtés!C86+Fűtés!D86+Fűtés!E86","v":0},{"$f":"Fűtés!C93+Fűtés!D93+Fűtés!E93","v":0},{"$f":"Fűtés!C100+Fűtés!D100+Fűtés!E100","v":0},{"$f":"Fűtés!C107+Fűtés!D107+Fűtés!E107","v":0}]
[null,null,null,null,null,null,null,"Villamosenergia",null,{"$f":"Villamosenergia!C83+Villamosenergia!D83+Villamosenergia!E83","v":0},{"$f":"Villamosenergia!C92+Villamosenergia!D92+Villamosenergia!E92","v":0},{"$f":"Villamosenergia!C101+Villamosenergia!D101+Villamosenergia!E101","v":0},{"$f":"Villamosenergia!C110+Villamosenergia!D110+Villamosenergia!E110","v":0},{"$f":"Villamosenergia!C119+Villamosenergia!D119+Villamosenergia!E119","v":0}]
[null,null,null,null,null,null,null,"Összesen",null,{"$f":"SUM(J70:J71)","v":0},{"$f":"SUM(K70:K71)","v":0},{"$f":"SUM(L70:L71)","v":0},{"$f":"SUM(M70:M71)","v":0},{"$f":"SUM(N70:N71)","v":0}]
[]
[]
[]
[]
[]
[]
[]
[]
[]
[]
[]
[]
[]
[]
["Közlekedési eszközök megoszlása"]
[]
[]
[]
[null,null,null,null,null,null,null,"Közlekedési eszközök (%)","Bázisév","terv kidolgozásának éve",2022,2025,2030]
[]
[null,null,null,null,null,null,null,"Közösségi közlekedés",{"$f":"'Egyéb intézkedések'!C39","v":0},{"$f":"'Egyéb intézkedések'!D39","v":0},{"$f":"'Egyéb intézkedések'!E39","v":0},{"$f":"'Egyéb intézkedések'!F39","v":0},{"$f":"'Egyéb intézkedések'!G39","v":0}]
[null,null,null,null,null,null,null,"Gyalogos közlekedés",{"$f":"'Egyéb intézkedések'!C40","v":0},{"$f":"'Egyéb intézkedések'!D40","v":0},{"$f":"'Egyéb intézkedések'!E40","v":0},{"$f":"'Egyéb intézkedések'!F40","v":0},{"$f":"'Egyéb intézkedések'!G40","v":0}]
[null,null,null,null,null,null,null,"Kerékpár",{"$f":"'Egyéb intézkedések'!C41","v":0},{"$f":"'Egyéb intézkedések'!D41","v":0},{"$f":"'Egyéb intézkedések'!E41","v":0},{"$f":"'Egyéb intézkedések'!F41","v":0},{"$f":"'Egyéb intézkedések'!G41","v":0}]
[null,null,null,null,null,null,null,"Autó",{"$f":"'Egyéb intézkedések'!C42","v":0},{"$f":"'Egyéb intézkedések'!D42","v":0},{"$f":"'Egyéb intézkedések'!E42","v":0},{"$f":"'Egyéb intézkedések'!F42","v":0},{"$f":"'Egyéb intézkedések'!G42","v":0}]
[null,null,null,null,null,null,null,"E-autó",{"$f":"'Egyéb intézkedések'!C43","v":0},{"$f":"'Egyéb intézkedések'!D43","v":0},{"$f":"'Egyéb intézkedések'!E43","v":0},{"$f":"'Egyéb intézkedések'!F43","v":0},{"$f":"'Egyéb intézkedések'!G43","v":0}]
[null,null,null,null,null,null,null,"Motorkerékpár",{"$f":"'Egyéb intézkedések'!C44","v":0},{"$f":"'Egyéb intézkedések'!D44","v":0},{"$f":"'Egyéb intézkedések'!E44","v":0},{"$f":"'Egyéb intézkedések'!F44","v":0},{"$f":"'Egyéb intézkedések'!G44","v":0}]
[null,null,null,null,null,null,null,"Egyéb",{"$f":"'Egyéb intézkedések'!C45","v":0},{"$f":"'Egyéb intézkedések'!D45","v":0},{"$f":"'Egyéb intézkedések'!E45","v":0},{"$f":"'Egyéb intézkedések'!F45","v":0},{"$f":"'Egyéb intézkedések'!G45","v":0}]